BEGIN:VCALENDAR
VERSION:2.0
PRODID:DPCALENDAR
CALSCALE:GREGORIAN
BEGIN:VTIMEZONE
TZID:Europe/Berlin
X-MICROSOFT-CDO-TZID:4
BEGIN:STANDARD
DTSTART:20251026T010000
TZOFFSETFROM:+0200
TZOFFSETTO:+0100
TZNAME:CET
END:STANDARD
BEGIN:STANDARD
DTSTART:20261025T010000
TZOFFSETFROM:+0200
TZOFFSETTO:+0100
TZNAME:CET
END:STANDARD
BEGIN:DAYLIGHT
DTSTART:20260329T010000
TZOFFSETFROM:+0100
TZOFFSETTO:+0200
TZNAME:CEST
END:DAYLIGHT
END:VTIMEZONE
X-WR-TIMEZONE:Europe/Berlin
BEGIN:VEVENT
DTSTART;TZID=Europe/Berlin:20260110T150000
DTEND;TZID=Europe/Berlin:20260110T190000
UID:A32F16B4-8A1C-44F5-976B-EC12F90CA1FF
SUMMARY:4. Runde Kreisliga und B-Klasse
CREATED:20251216T141136Z
DTSTAMP:20251216T141136Z
URL:https://www.schachkreis-suedschwaben.de/home/termine/r4-kl-b
DESCRIPTION:Paarungen Kreisliga und B-Klasse
X-ALT-DESC;FMTTYPE=text/html:<p>Paarungen <a href="/ligen?SaisonID=20&amp;LigaID=1&amp;runde=4" class="btn btn-outline">Kreisliga</a>&nbsp;und <a href="/ligen?SaisonID=20&amp;LigaID=3&amp;runde=4" class="btn btn-outline">B-Klasse</a></p>
LAST-MODIFIED:20260102T075415Z
SEQUENCE:1446159
X-ACCESS:1
X-HITS:635
X-COLOR:1c4949
X-SHOW-END-TIME:0
END:VEVENT
BEGIN:VEVENT
DTSTART;TZID=Europe/Berlin:20260131T150000
DTEND;TZID=Europe/Berlin:20260131T190000
UID:C49E8F5C-E75D-47BB-B1B9-4F2ABEE443C5
SUMMARY:5. Runde Kreisliga
CREATED:20251217T061245Z
DTSTAMP:20251217T061245Z
URL:https://www.schachkreis-suedschwaben.de/home/termine/r5-kl
DESCRIPTION:Paarungen
X-ALT-DESC;FMTTYPE=text/html:<p><a href="/ligen?SaisonID=20&amp;LigaID=1&amp;runde=5" class="btn-outline">Paarungen</a></p>
LAST-MODIFIED:20260119T140615Z
SEQUENCE:2879610
X-ACCESS:1
X-HITS:629
X-COLOR:1c4949
X-SHOW-END-TIME:0
END:VEVENT
BEGIN:VEVENT
DTSTART;TZID=Europe/Berlin:20260207T150000
DTEND;TZID=Europe/Berlin:20260207T190000
UID:AFBAF233-0A91-45B9-BCBA-4582239C4F53
SUMMARY:5. Runde A-Klasse
CREATED:20251217T061640Z
DTSTAMP:20251217T061640Z
URL:https://www.schachkreis-suedschwaben.de/home/termine/r5-a
DESCRIPTION:Paarungen
X-ALT-DESC;FMTTYPE=text/html:<p><a href="/ligen?SaisonID=20&amp;LigaID=2&amp;runde=5" class="btn-outline">Paarungen</a></p>
LAST-MODIFIED:20260205T135857Z
SEQUENCE:4347737
X-ACCESS:1
X-HITS:630
X-COLOR:1c4949
X-SHOW-END-TIME:0
END:VEVENT
BEGIN:VEVENT
DTSTART;TZID=Europe/Berlin:20260228T150000
DTEND;TZID=Europe/Berlin:20260228T190000
UID:D4879B67-0DB2-41F6-9859-BB25BF22BD82
SUMMARY:6. Runde A-Klasse
CREATED:20251217T061713Z
DTSTAMP:20251217T061713Z
URL:https://www.schachkreis-suedschwaben.de/home/termine/r6-a
DESCRIPTION:Paarungen
X-ALT-DESC;FMTTYPE=text/html:<p><a href="/ligen?SaisonID=20&amp;LigaID=2&amp;runde=6" class="btn-outline">Paarungen</a></p>
LAST-MODIFIED:20260205T140102Z
SEQUENCE:4347829
X-ACCESS:1
X-HITS:654
X-COLOR:1c4949
X-SHOW-END-TIME:0
END:VEVENT
BEGIN:VEVENT
DTSTART;TZID=Europe/Berlin:20260314T150000
DTEND;TZID=Europe/Berlin:20260314T190000
UID:0070B0A7-47C4-4F52-AE4E-8F984F9E13E0
SUMMARY:6. Runde Kreisliga und 5. Runde B-Klasse
CREATED:20251217T061446Z
DTSTAMP:20251217T061446Z
URL:https://www.schachkreis-suedschwaben.de/home/termine/r6-kl-r5-b
DESCRIPTION:Paarungen Kreisliga und B-Klasse
X-ALT-DESC;FMTTYPE=text/html:<p>Paarungen <a href="/ligen?SaisonID=20&amp;LigaID=1&amp;runde=6" class="btn-outline">Kreisliga</a>&nbsp;und <a href="/ligen?SaisonID=20&amp;LigaID=3&amp;runde=5" class="btn-outline">B-Klasse</a></p>
LAST-MODIFIED:20260228T185452Z
SEQUENCE:6352806
X-ACCESS:1
X-HITS:731
X-COLOR:1c4949
X-SHOW-END-TIME:0
END:VEVENT
BEGIN:VEVENT
DTSTART;TZID=Europe/Berlin:20260328T150000
DTEND;TZID=Europe/Berlin:20260328T190000
UID:46AFF381-982C-4E5D-9585-36DB07BA25AC
SUMMARY:7. Runde A-Klasse
CREATED:20251217T061747Z
DTSTAMP:20251217T061747Z
URL:https://www.schachkreis-suedschwaben.de/home/termine/r7-a
DESCRIPTION:Paarungen
X-ALT-DESC;FMTTYPE=text/html:<p><a href="/ligen?SaisonID=20&amp;LigaID=2&amp;runde=7" class="btn-outline">Paarungen</a></p>
LAST-MODIFIED:20260205T140151Z
SEQUENCE:4347844
X-ACCESS:1
X-HITS:642
X-COLOR:1c4949
X-SHOW-END-TIME:0
END:VEVENT
BEGIN:VEVENT
DTSTART;TZID=Europe/Berlin:20260425T150000
DTEND;TZID=Europe/Berlin:20260425T190000
UID:1BF0968C-7018-4482-B486-24075A3866FE
SUMMARY:7. Runde Kreisliga
CREATED:20251217T061545Z
DTSTAMP:20251217T061545Z
URL:https://www.schachkreis-suedschwaben.de/home/termine/r7-kl
DESCRIPTION:Paarungen
X-ALT-DESC;FMTTYPE=text/html:<p><a href="/ligen?SaisonID=20&amp;LigaID=1&amp;runde=7" class="btn-outline">Paarungen</a></p>
LAST-MODIFIED:20260205T140315Z
SEQUENCE:4348050
X-ACCESS:1
X-HITS:832
X-COLOR:1c4949
X-SHOW-END-TIME:0
END:VEVENT
END:VCALENDAR