BEGIN:VCALENDAR
VERSION:2.0
PRODID:DPCALENDAR
CALSCALE:GREGORIAN
BEGIN:VTIMEZONE
TZID:Europe/Berlin
X-MICROSOFT-CDO-TZID:4
BEGIN:STANDARD
DTSTART:20251026T010000
TZOFFSETFROM:+0200
TZOFFSETTO:+0100
TZNAME:CET
END:STANDARD
BEGIN:STANDARD
DTSTART:20261025T010000
TZOFFSETFROM:+0200
TZOFFSETTO:+0100
TZNAME:CET
END:STANDARD
BEGIN:DAYLIGHT
DTSTART:20260329T010000
TZOFFSETFROM:+0100
TZOFFSETTO:+0200
TZNAME:CEST
END:DAYLIGHT
END:VTIMEZONE
X-WR-TIMEZONE:Europe/Berlin
BEGIN:VEVENT
DTSTART;TZID=Europe/Berlin:20260514T093000
DTEND;TZID=Europe/Berlin:20260517T130000
UID:67F1AD16-CC78-4787-A9E5-0DBE2369CD53
SUMMARY:Offene Senioren-EM
CREATED:20260302T063626Z
DTSTAMP:20260302T063626Z
URL:https://www.schachkreis-suedschwaben.de/home/termine/sen26
DESCRIPTION:Ausschreibung\NTeilnehmer\NAnmelden
X-ALT-DESC;FMTTYPE=text/html:<div style="display:inline; margin-right: 20px;"><a href="https://www.schachkreis-suedschwaben.de/infos/ausschreibungen/aus-sen26" class="btn-outline">Ausschreibung</a></div><div style="display:inline; margin-right:10px"><a href="https://www.schachkreis-suedschwaben.de/infos/ausschreibungen/aus-sen26/teiln-sen26" class="btn-outline">Teilnehmer</a></div><div style="display:inline"><a href="https://www.schachkreis-suedschwaben.de/infos/ausschreibungen/aus-sen26/meld-sen26?KreisID=274" class="btn-outline">Anmelden</a></div>
LAST-MODIFIED:20260309T105157Z
SEQUENCE:620131
LOCATION:Bodenseestr. 49\, 87700 Memmingen
GEO:47.98162030;10.17674270
X-LOCATION-DISPLAYNAME:TVM Gaststätte
X-ACCESS:1
X-HITS:449
X-COLOR:1c4949
X-SHOW-END-TIME:0
END:VEVENT
END:VCALENDAR