BEGIN:VCALENDAR
VERSION:2.0
PRODID:DPCALENDAR
CALSCALE:GREGORIAN
BEGIN:VTIMEZONE
TZID:Europe/Berlin
X-MICROSOFT-CDO-TZID:4
BEGIN:STANDARD
DTSTART:20251026T010000
TZOFFSETFROM:+0200
TZOFFSETTO:+0100
TZNAME:CET
END:STANDARD
BEGIN:STANDARD
DTSTART:20261025T010000
TZOFFSETFROM:+0200
TZOFFSETTO:+0100
TZNAME:CET
END:STANDARD
BEGIN:DAYLIGHT
DTSTART:20260329T010000
TZOFFSETFROM:+0100
TZOFFSETTO:+0200
TZNAME:CEST
END:DAYLIGHT
END:VTIMEZONE
X-WR-TIMEZONE:Europe/Berlin
BEGIN:VEVENT
DTSTART;TZID=Europe/Berlin:20260501T100000
DTEND;TZID=Europe/Berlin:20260501T160000
UID:61AE4D45-7B19-4B2A-B70A-CC3167AB547A
SUMMARY:Offene Blitz-EM
CREATED:20251217T061914Z
DTSTAMP:20251217T061914Z
URL:https://www.schachkreis-suedschwaben.de/home/termine/blitz-em
LAST-MODIFIED:20260419T094953Z
SEQUENCE:10639839
LOCATION:Porschestraße 31\, 87600 Kaufbeuren
GEO:47.89200700;10.63963560
X-LOCATION-DISPLAYNAME:BRK Kaufbeuren
X-ACCESS:1
X-HITS:675
X-COLOR:1c4949
X-SHOW-END-TIME:0
END:VEVENT
END:VCALENDAR