BEGIN:VCALENDAR
VERSION:2.0
PRODID:DPCALENDAR
CALSCALE:GREGORIAN
BEGIN:VTIMEZONE
TZID:Europe/Berlin
X-MICROSOFT-CDO-TZID:4
BEGIN:STANDARD
DTSTART:20251026T010000
TZOFFSETFROM:+0200
TZOFFSETTO:+0100
TZNAME:CET
END:STANDARD
BEGIN:STANDARD
DTSTART:20261025T010000
TZOFFSETFROM:+0200
TZOFFSETTO:+0100
TZNAME:CET
END:STANDARD
BEGIN:DAYLIGHT
DTSTART:20260329T010000
TZOFFSETFROM:+0100
TZOFFSETTO:+0200
TZNAME:CEST
END:DAYLIGHT
END:VTIMEZONE
X-WR-TIMEZONE:Europe/Berlin
BEGIN:VEVENT
DTSTART;TZID=Europe/Berlin:20260719T150000
DTEND;TZID=Europe/Berlin:20260719T180000
UID:71202EA5-5AEF-40E8-A748-2ABD73A03ADB
SUMMARY:Jahreshauptversammlung
CREATED:20260302T083245Z
DTSTAMP:20260302T083245Z
URL:https://www.schachkreis-suedschwaben.de/home/termine/jhv
DESCRIPTION:Einladung
X-ALT-DESC;FMTTYPE=text/html:<div><a href="https://www.schachkreis-suedschwaben.de/infos/ausschreibungen/einladung-jhv" class="btn-outline">Einladung</a></div>
LAST-MODIFIED:20260302T083245Z
SEQUENCE:0
LOCATION:Am Graben 14\, 87509 Immenstadt
GEO:47.55882590;10.21967260
X-LOCATION-DISPLAYNAME:Vereinsheim SK Immenstadt 09
X-ACCESS:1
X-HITS:352
X-COLOR:1c4949
X-SHOW-END-TIME:0
END:VEVENT
END:VCALENDAR